BEGIN:VCALENDAR
VERSION:2.0
PRODID:-//First Parish of Stoughton - ECPv6.15.20//NONSGML v1.0//EN
CALSCALE:GREGORIAN
METHOD:PUBLISH
X-WR-CALNAME:First Parish of Stoughton
X-ORIGINAL-URL:https://firstparishstoughton.org
X-WR-CALDESC:Events for First Parish of Stoughton
REFRESH-INTERVAL;VALUE=DURATION:PT1H
X-Robots-Tag:noindex
X-PUBLISHED-TTL:PT1H
BEGIN:VTIMEZONE
TZID:UTC
BEGIN:STANDARD
TZOFFSETFROM:+0000
TZOFFSETTO:+0000
TZNAME:UTC
DTSTART:20190101T000000
END:STANDARD
END:VTIMEZONE
BEGIN:VTIMEZONE
TZID:America/New_York
BEGIN:DAYLIGHT
TZOFFSETFROM:-0500
TZOFFSETTO:-0400
TZNAME:EDT
DTSTART:20190310T070000
END:DAYLIGHT
BEGIN:STANDARD
TZOFFSETFROM:-0400
TZOFFSETTO:-0500
TZNAME:EST
DTSTART:20191103T060000
END:STANDARD
BEGIN:DAYLIGHT
TZOFFSETFROM:-0500
TZOFFSETTO:-0400
TZNAME:EDT
DTSTART:20200308T070000
END:DAYLIGHT
BEGIN:STANDARD
TZOFFSETFROM:-0400
TZOFFSETTO:-0500
TZNAME:EST
DTSTART:20201101T060000
END:STANDARD
BEGIN:DAYLIGHT
TZOFFSETFROM:-0500
TZOFFSETTO:-0400
TZNAME:EDT
DTSTART:20210314T070000
END:DAYLIGHT
BEGIN:STANDARD
TZOFFSETFROM:-0400
TZOFFSETTO:-0500
TZNAME:EST
DTSTART:20211107T060000
END:STANDARD
END:VTIMEZONE
BEGIN:VEVENT
DTSTART;TZID=UTC:20200216T120000
DTEND;TZID=UTC:20200216T130000
DTSTAMP:20260423T055345
CREATED:20200212T075037Z
LAST-MODIFIED:20200212T075037Z
UID:4267-1581854400-1581858000@firstparishstoughton.org
SUMMARY:Social Action Meeting
DESCRIPTION:Social Action Committee meeting after Sunday service.
URL:https://firstparishstoughton.org/event/social-action-meeting/
LOCATION:First Parish – Parlor\, 790 Washington Street\, Stoughton\, MA\, 02072\, United States
CATEGORIES:Social Action Committee Mtg.
ORGANIZER;CN="Carmel Drewes":MAILTO:SocialAction@FirstParishStoughton.org
END:VEVENT
BEGIN:VEVENT
DTSTART;TZID=America/New_York:20200211T190000
DTEND;TZID=America/New_York:20200211T200000
DTSTAMP:20260423T055346
CREATED:20200203T093305Z
LAST-MODIFIED:20200203T093305Z
UID:4129-1581447600-1581451200@firstparishstoughton.org
SUMMARY:Board of Trustees Meeting
DESCRIPTION:Board of Trustees monthly meeting
URL:https://firstparishstoughton.org/event/board-of-trustees-meeting/
LOCATION:First Parish – R.E. Room\, 790 Washington Street\, Stoughton\, MA\, 02072\, United States
CATEGORIES:Board of Trustees Mtg.,Internal Events / Meetings
END:VEVENT
BEGIN:VEVENT
DTSTART;TZID=America/New_York:20200206T180000
DTEND;TZID=America/New_York:20200206T190000
DTSTAMP:20260423T055346
CREATED:20200203T092913Z
LAST-MODIFIED:20200203T092913Z
UID:4127-1581012000-1581015600@firstparishstoughton.org
SUMMARY:Worship Committee Meeting
DESCRIPTION:Worship Committee monthly meeting
URL:https://firstparishstoughton.org/event/worship-committee-meeting/
LOCATION:First Parish – Parlor\, 790 Washington Street\, Stoughton\, MA\, 02072\, United States
CATEGORIES:Worship Committee Mtg.
END:VEVENT
BEGIN:VEVENT
DTSTART;TZID=America/New_York:20200204T191500
DTEND;TZID=America/New_York:20200204T201500
DTSTAMP:20260423T055346
CREATED:20200203T092752Z
LAST-MODIFIED:20200203T092752Z
UID:4124-1580843700-1580847300@firstparishstoughton.org
SUMMARY:General Operations Committee Meeting
DESCRIPTION:General Operations Committee monthly meeting.
URL:https://firstparishstoughton.org/event/general-operations-committee-meeting/
LOCATION:First Parish – Parlor\, 790 Washington Street\, Stoughton\, MA\, 02072\, United States
CATEGORIES:General Operations Committee Mtg.,Internal Events / Meetings
END:VEVENT
END:VCALENDAR